BEGIN:VCALENDAR
VERSION:2.0
PRODID:-//MercerMe - ECPv6.15.18//NONSGML v1.0//EN
CALSCALE:GREGORIAN
METHOD:PUBLISH
X-WR-CALNAME:MercerMe
X-ORIGINAL-URL:https://mercerme.com
X-WR-CALDESC:Events for MercerMe
REFRESH-INTERVAL;VALUE=DURATION:PT1H
X-Robots-Tag:noindex
X-PUBLISHED-TTL:PT1H
BEGIN:VTIMEZONE
TZID:America/New_York
BEGIN:DAYLIGHT
TZOFFSETFROM:-0500
TZOFFSETTO:-0400
TZNAME:EDT
DTSTART:20250309T070000
END:DAYLIGHT
BEGIN:STANDARD
TZOFFSETFROM:-0400
TZOFFSETTO:-0500
TZNAME:EST
DTSTART:20251102T060000
END:STANDARD
BEGIN:DAYLIGHT
TZOFFSETFROM:-0500
TZOFFSETTO:-0400
TZNAME:EDT
DTSTART:20260308T070000
END:DAYLIGHT
BEGIN:STANDARD
TZOFFSETFROM:-0400
TZOFFSETTO:-0500
TZNAME:EST
DTSTART:20261101T060000
END:STANDARD
BEGIN:DAYLIGHT
TZOFFSETFROM:-0500
TZOFFSETTO:-0400
TZNAME:EDT
DTSTART:20270314T070000
END:DAYLIGHT
BEGIN:STANDARD
TZOFFSETFROM:-0400
TZOFFSETTO:-0500
TZNAME:EST
DTSTART:20271107T060000
END:STANDARD
END:VTIMEZONE
BEGIN:VEVENT
DTSTART;TZID=America/New_York:20260207T120000
DTEND;TZID=America/New_York:20260207T150000
DTSTAMP:20260420T041326
CREATED:20260114T192220Z
LAST-MODIFIED:20260114T192220Z
UID:10037278-1770465600-1770476400@mercerme.com
SUMMARY:Scrap Metal Connection
DESCRIPTION:The Hopewell Valley Green Team will host a scrap metal collection on Saturday\, February 7\, 2026. Please bring your assorted scrap metal (nothing extremely heavy) to the Hopewell Township Public Works Building between 12:00 and 3:00 p.m. and we will make sure it is recycled for you. Volunteers are needed to staff the event—please contact us if you’re interested: hvgreenteam@gmail.com.\nAcceptable materials are listed here: https://hopewellvalleygreenteam.org/recycling/recycling-
URL:https://mercerme.com/event/scrap-metal-connection/
LOCATION:Hopewell Twp. Public Works\, 203 Washington Crossing-Pennington Road\, Hopewell\, NJ\, 08525\, United States
CATEGORIES:free
ATTACH;FMTTYPE=image/jpeg:https://mercerme.com/wp-content/uploads/2026/01/HVGT-Scrap-Metal-2025-1536x1152-1.jpg
GEO:40.3089676;-74.8136961
X-APPLE-STRUCTURED-LOCATION;VALUE=URI;X-ADDRESS=Hopewell Twp. Public Works 203 Washington Crossing-Pennington Road Hopewell NJ 08525 United States;X-APPLE-RADIUS=500;X-TITLE=203 Washington Crossing-Pennington Road:geo:-74.8136961,40.3089676
END:VEVENT
END:VCALENDAR