BEGIN:VCALENDAR
VERSION:2.0
PRODID:-//MercerMe - ECPv6.15.18//NONSGML v1.0//EN
CALSCALE:GREGORIAN
METHOD:PUBLISH
X-ORIGINAL-URL:https://mercerme.com
X-WR-CALDESC:Events for MercerMe
REFRESH-INTERVAL;VALUE=DURATION:PT1H
X-Robots-Tag:noindex
X-PUBLISHED-TTL:PT1H
BEGIN:VTIMEZONE
TZID:America/New_York
BEGIN:DAYLIGHT
TZOFFSETFROM:-0500
TZOFFSETTO:-0400
TZNAME:EDT
DTSTART:20250309T070000
END:DAYLIGHT
BEGIN:STANDARD
TZOFFSETFROM:-0400
TZOFFSETTO:-0500
TZNAME:EST
DTSTART:20251102T060000
END:STANDARD
BEGIN:DAYLIGHT
TZOFFSETFROM:-0500
TZOFFSETTO:-0400
TZNAME:EDT
DTSTART:20260308T070000
END:DAYLIGHT
BEGIN:STANDARD
TZOFFSETFROM:-0400
TZOFFSETTO:-0500
TZNAME:EST
DTSTART:20261101T060000
END:STANDARD
BEGIN:DAYLIGHT
TZOFFSETFROM:-0500
TZOFFSETTO:-0400
TZNAME:EDT
DTSTART:20270314T070000
END:DAYLIGHT
BEGIN:STANDARD
TZOFFSETFROM:-0400
TZOFFSETTO:-0500
TZNAME:EST
DTSTART:20271107T060000
END:STANDARD
END:VTIMEZONE
BEGIN:VEVENT
DTSTART;TZID=America/New_York:20260526T190000
DTEND;TZID=America/New_York:20260526T200000
DTSTAMP:20260421T223028
CREATED:20260421T183128Z
LAST-MODIFIED:20260421T183128Z
UID:10037428-1779822000-1779825600@mercerme.com
SUMMARY:Borscht Belt: The Comic Legacy of the Catskills
DESCRIPTION:The Jewish Catskill resorts of the 20th century were a summer paradise for millions — and the birthplace of some of America’s greatest comic careers. Legends such as Mel Brooks\, Sid Caesar\, Rodney Dangerfield\, Joan Rivers\, and Jackie Mason honed their craft entertaining guests at iconic resorts like Grossinger’s\, Brown’s\, The Concord\, Kutsher’s\, and The Nevele. Entertainment historian John Kenrick presents a lively\, multimedia talk exploring this rich comic tradition\, featuring hilarious video clips and behind-the-scenes stories from the golden age of Borscht Belt comedy. Please visit events.mcl.org to register to receive the link to the program.\nBorscht Belt: The Comic Legacy of the Catskills\nTuesday\, May 26\, 7:00 pm
URL:https://mercerme.com/event/borscht-belt-the-comic-legacy-of-the-catskills/
LOCATION:NJ
CATEGORIES:history,library,Mercer County,virtual
ATTACH;FMTTYPE=image/jpeg:https://mercerme.com/wp-content/uploads/2015/12/IMG_6679-e1488287406335.jpg
END:VEVENT
END:VCALENDAR