BEGIN:VCALENDAR
VERSION:2.0
PRODID:-//MercerMe - ECPv6.15.18//NONSGML v1.0//EN
CALSCALE:GREGORIAN
METHOD:PUBLISH
X-ORIGINAL-URL:https://mercerme.com
X-WR-CALDESC:Events for MercerMe
REFRESH-INTERVAL;VALUE=DURATION:PT1H
X-Robots-Tag:noindex
X-PUBLISHED-TTL:PT1H
BEGIN:VTIMEZONE
TZID:America/New_York
BEGIN:DAYLIGHT
TZOFFSETFROM:-0500
TZOFFSETTO:-0400
TZNAME:EDT
DTSTART:20220313T070000
END:DAYLIGHT
BEGIN:STANDARD
TZOFFSETFROM:-0400
TZOFFSETTO:-0500
TZNAME:EST
DTSTART:20221106T060000
END:STANDARD
BEGIN:DAYLIGHT
TZOFFSETFROM:-0500
TZOFFSETTO:-0400
TZNAME:EDT
DTSTART:20230312T070000
END:DAYLIGHT
BEGIN:STANDARD
TZOFFSETFROM:-0400
TZOFFSETTO:-0500
TZNAME:EST
DTSTART:20231105T060000
END:STANDARD
BEGIN:DAYLIGHT
TZOFFSETFROM:-0500
TZOFFSETTO:-0400
TZNAME:EDT
DTSTART:20240310T070000
END:DAYLIGHT
BEGIN:STANDARD
TZOFFSETFROM:-0400
TZOFFSETTO:-0500
TZNAME:EST
DTSTART:20241103T060000
END:STANDARD
BEGIN:DAYLIGHT
TZOFFSETFROM:-0500
TZOFFSETTO:-0400
TZNAME:EDT
DTSTART:20250309T070000
END:DAYLIGHT
BEGIN:STANDARD
TZOFFSETFROM:-0400
TZOFFSETTO:-0500
TZNAME:EST
DTSTART:20251102T060000
END:STANDARD
BEGIN:DAYLIGHT
TZOFFSETFROM:-0500
TZOFFSETTO:-0400
TZNAME:EDT
DTSTART:20260308T070000
END:DAYLIGHT
BEGIN:STANDARD
TZOFFSETFROM:-0400
TZOFFSETTO:-0500
TZNAME:EST
DTSTART:20261101T060000
END:STANDARD
END:VTIMEZONE
BEGIN:VEVENT
DTSTART;TZID=America/New_York:20250422T140000
DTEND;TZID=America/New_York:20250422T140000
DTSTAMP:20260419T192808
CREATED:20250211T210412Z
LAST-MODIFIED:20250930T202621Z
UID:10036629-1745330400-1745330400@mercerme.com
SUMMARY:ESL Conversation Group
DESCRIPTION:Hosted on Tuesdays at 2:00 pm at the Hopewell Branch Library at  245 Pennington-Titusville Road\, Pennington\, NJ 08534 \nCome to the Hopewell Branch for relaxed conversation in English. This program is ideal for speakers with Intermediate proficiency in English\, though all are welcome. Join TESOL-certified librarian Chip McAuley to practice spoken English in a supportive\, friendly environment. Registration is requested. Please call 609.737.2610 or email hopeprogs@mcl.org to register.
URL:https://mercerme.com/event/esl-conversation-group/2025-04-22/
LOCATION:Hopewell Branch Library – MCL\, 245 Pennington-Titusville Road\, Pennington\, 08534\, United States
CATEGORIES:Community,free,Hopewell Township,library,Pennington
ATTACH;FMTTYPE=image/jpeg:https://mercerme.com/wp-content/uploads/2023/12/Hopewell-Branch-Library.jpg
ORGANIZER;CN="Hopewell Branch Library - MCL":MAILTO:hopeprogs@mcl.org
GEO:40.3273609;-74.8016543
X-APPLE-STRUCTURED-LOCATION;VALUE=URI;X-ADDRESS=Hopewell Branch Library – MCL 245 Pennington-Titusville Road Pennington 08534 United States;X-APPLE-RADIUS=500;X-TITLE=245 Pennington-Titusville Road:geo:-74.8016543,40.3273609
END:VEVENT
BEGIN:VEVENT
DTSTART;TZID=America/New_York:20250415T140000
DTEND;TZID=America/New_York:20250415T140000
DTSTAMP:20260419T192808
CREATED:20250211T210412Z
LAST-MODIFIED:20250930T202621Z
UID:10036628-1744725600-1744725600@mercerme.com
SUMMARY:ESL Conversation Group
DESCRIPTION:Hosted on Tuesdays at 2:00 pm at the Hopewell Branch Library at  245 Pennington-Titusville Road\, Pennington\, NJ 08534 \nCome to the Hopewell Branch for relaxed conversation in English. This program is ideal for speakers with Intermediate proficiency in English\, though all are welcome. Join TESOL-certified librarian Chip McAuley to practice spoken English in a supportive\, friendly environment. Registration is requested. Please call 609.737.2610 or email hopeprogs@mcl.org to register.
URL:https://mercerme.com/event/esl-conversation-group/2025-04-15/
LOCATION:Hopewell Branch Library – MCL\, 245 Pennington-Titusville Road\, Pennington\, 08534\, United States
CATEGORIES:Community,free,Hopewell Township,library,Pennington
ATTACH;FMTTYPE=image/jpeg:https://mercerme.com/wp-content/uploads/2023/12/Hopewell-Branch-Library.jpg
ORGANIZER;CN="Hopewell Branch Library - MCL":MAILTO:hopeprogs@mcl.org
GEO:40.3273609;-74.8016543
X-APPLE-STRUCTURED-LOCATION;VALUE=URI;X-ADDRESS=Hopewell Branch Library – MCL 245 Pennington-Titusville Road Pennington 08534 United States;X-APPLE-RADIUS=500;X-TITLE=245 Pennington-Titusville Road:geo:-74.8016543,40.3273609
END:VEVENT
BEGIN:VEVENT
DTSTART;TZID=America/New_York:20250408T140000
DTEND;TZID=America/New_York:20250408T140000
DTSTAMP:20260419T192808
CREATED:20250211T210412Z
LAST-MODIFIED:20250930T202621Z
UID:10036627-1744120800-1744120800@mercerme.com
SUMMARY:ESL Conversation Group
DESCRIPTION:Hosted on Tuesdays at 2:00 pm at the Hopewell Branch Library at  245 Pennington-Titusville Road\, Pennington\, NJ 08534 \nCome to the Hopewell Branch for relaxed conversation in English. This program is ideal for speakers with Intermediate proficiency in English\, though all are welcome. Join TESOL-certified librarian Chip McAuley to practice spoken English in a supportive\, friendly environment. Registration is requested. Please call 609.737.2610 or email hopeprogs@mcl.org to register.
URL:https://mercerme.com/event/esl-conversation-group/2025-04-08/
LOCATION:Hopewell Branch Library – MCL\, 245 Pennington-Titusville Road\, Pennington\, 08534\, United States
CATEGORIES:Community,free,Hopewell Township,library,Pennington
ATTACH;FMTTYPE=image/jpeg:https://mercerme.com/wp-content/uploads/2023/12/Hopewell-Branch-Library.jpg
ORGANIZER;CN="Hopewell Branch Library - MCL":MAILTO:hopeprogs@mcl.org
GEO:40.3273609;-74.8016543
X-APPLE-STRUCTURED-LOCATION;VALUE=URI;X-ADDRESS=Hopewell Branch Library – MCL 245 Pennington-Titusville Road Pennington 08534 United States;X-APPLE-RADIUS=500;X-TITLE=245 Pennington-Titusville Road:geo:-74.8016543,40.3273609
END:VEVENT
BEGIN:VEVENT
DTSTART;TZID=America/New_York:20250401T140000
DTEND;TZID=America/New_York:20250401T140000
DTSTAMP:20260419T192808
CREATED:20250211T210412Z
LAST-MODIFIED:20250930T202621Z
UID:10036626-1743516000-1743516000@mercerme.com
SUMMARY:ESL Conversation Group
DESCRIPTION:Hosted on Tuesdays at 2:00 pm at the Hopewell Branch Library at  245 Pennington-Titusville Road\, Pennington\, NJ 08534 \nCome to the Hopewell Branch for relaxed conversation in English. This program is ideal for speakers with Intermediate proficiency in English\, though all are welcome. Join TESOL-certified librarian Chip McAuley to practice spoken English in a supportive\, friendly environment. Registration is requested. Please call 609.737.2610 or email hopeprogs@mcl.org to register.
URL:https://mercerme.com/event/esl-conversation-group/2025-04-01/
LOCATION:Hopewell Branch Library – MCL\, 245 Pennington-Titusville Road\, Pennington\, 08534\, United States
CATEGORIES:Community,free,Hopewell Township,library,Pennington
ATTACH;FMTTYPE=image/jpeg:https://mercerme.com/wp-content/uploads/2023/12/Hopewell-Branch-Library.jpg
ORGANIZER;CN="Hopewell Branch Library - MCL":MAILTO:hopeprogs@mcl.org
GEO:40.3273609;-74.8016543
X-APPLE-STRUCTURED-LOCATION;VALUE=URI;X-ADDRESS=Hopewell Branch Library – MCL 245 Pennington-Titusville Road Pennington 08534 United States;X-APPLE-RADIUS=500;X-TITLE=245 Pennington-Titusville Road:geo:-74.8016543,40.3273609
END:VEVENT
BEGIN:VEVENT
DTSTART;TZID=America/New_York:20250325T140000
DTEND;TZID=America/New_York:20250325T140000
DTSTAMP:20260419T192808
CREATED:20250211T210412Z
LAST-MODIFIED:20250930T202621Z
UID:10036625-1742911200-1742911200@mercerme.com
SUMMARY:ESL Conversation Group
DESCRIPTION:Hosted on Tuesdays at 2:00 pm at the Hopewell Branch Library at  245 Pennington-Titusville Road\, Pennington\, NJ 08534 \nCome to the Hopewell Branch for relaxed conversation in English. This program is ideal for speakers with Intermediate proficiency in English\, though all are welcome. Join TESOL-certified librarian Chip McAuley to practice spoken English in a supportive\, friendly environment. Registration is requested. Please call 609.737.2610 or email hopeprogs@mcl.org to register.
URL:https://mercerme.com/event/esl-conversation-group/2025-03-25/
LOCATION:Hopewell Branch Library – MCL\, 245 Pennington-Titusville Road\, Pennington\, 08534\, United States
CATEGORIES:Community,free,Hopewell Township,library,Pennington
ATTACH;FMTTYPE=image/jpeg:https://mercerme.com/wp-content/uploads/2023/12/Hopewell-Branch-Library.jpg
ORGANIZER;CN="Hopewell Branch Library - MCL":MAILTO:hopeprogs@mcl.org
GEO:40.3273609;-74.8016543
X-APPLE-STRUCTURED-LOCATION;VALUE=URI;X-ADDRESS=Hopewell Branch Library – MCL 245 Pennington-Titusville Road Pennington 08534 United States;X-APPLE-RADIUS=500;X-TITLE=245 Pennington-Titusville Road:geo:-74.8016543,40.3273609
END:VEVENT
BEGIN:VEVENT
DTSTART;TZID=America/New_York:20250318T140000
DTEND;TZID=America/New_York:20250318T140000
DTSTAMP:20260419T192808
CREATED:20250211T210412Z
LAST-MODIFIED:20250930T202621Z
UID:10036624-1742306400-1742306400@mercerme.com
SUMMARY:ESL Conversation Group
DESCRIPTION:Hosted on Tuesdays at 2:00 pm at the Hopewell Branch Library at  245 Pennington-Titusville Road\, Pennington\, NJ 08534 \nCome to the Hopewell Branch for relaxed conversation in English. This program is ideal for speakers with Intermediate proficiency in English\, though all are welcome. Join TESOL-certified librarian Chip McAuley to practice spoken English in a supportive\, friendly environment. Registration is requested. Please call 609.737.2610 or email hopeprogs@mcl.org to register.
URL:https://mercerme.com/event/esl-conversation-group/2025-03-18/
LOCATION:Hopewell Branch Library – MCL\, 245 Pennington-Titusville Road\, Pennington\, 08534\, United States
CATEGORIES:Community,free,Hopewell Township,library,Pennington
ATTACH;FMTTYPE=image/jpeg:https://mercerme.com/wp-content/uploads/2023/12/Hopewell-Branch-Library.jpg
ORGANIZER;CN="Hopewell Branch Library - MCL":MAILTO:hopeprogs@mcl.org
GEO:40.3273609;-74.8016543
X-APPLE-STRUCTURED-LOCATION;VALUE=URI;X-ADDRESS=Hopewell Branch Library – MCL 245 Pennington-Titusville Road Pennington 08534 United States;X-APPLE-RADIUS=500;X-TITLE=245 Pennington-Titusville Road:geo:-74.8016543,40.3273609
END:VEVENT
BEGIN:VEVENT
DTSTART;TZID=America/New_York:20250311T140000
DTEND;TZID=America/New_York:20250311T140000
DTSTAMP:20260419T192808
CREATED:20250211T210412Z
LAST-MODIFIED:20250930T202621Z
UID:10036623-1741701600-1741701600@mercerme.com
SUMMARY:ESL Conversation Group
DESCRIPTION:Hosted on Tuesdays at 2:00 pm at the Hopewell Branch Library at  245 Pennington-Titusville Road\, Pennington\, NJ 08534 \nCome to the Hopewell Branch for relaxed conversation in English. This program is ideal for speakers with Intermediate proficiency in English\, though all are welcome. Join TESOL-certified librarian Chip McAuley to practice spoken English in a supportive\, friendly environment. Registration is requested. Please call 609.737.2610 or email hopeprogs@mcl.org to register.
URL:https://mercerme.com/event/esl-conversation-group/2025-03-11/
LOCATION:Hopewell Branch Library – MCL\, 245 Pennington-Titusville Road\, Pennington\, 08534\, United States
CATEGORIES:Community,free,Hopewell Township,library,Pennington
ATTACH;FMTTYPE=image/jpeg:https://mercerme.com/wp-content/uploads/2023/12/Hopewell-Branch-Library.jpg
ORGANIZER;CN="Hopewell Branch Library - MCL":MAILTO:hopeprogs@mcl.org
GEO:40.3273609;-74.8016543
X-APPLE-STRUCTURED-LOCATION;VALUE=URI;X-ADDRESS=Hopewell Branch Library – MCL 245 Pennington-Titusville Road Pennington 08534 United States;X-APPLE-RADIUS=500;X-TITLE=245 Pennington-Titusville Road:geo:-74.8016543,40.3273609
END:VEVENT
BEGIN:VEVENT
DTSTART;TZID=America/New_York:20250304T140000
DTEND;TZID=America/New_York:20250304T140000
DTSTAMP:20260419T192808
CREATED:20250211T210412Z
LAST-MODIFIED:20250930T202621Z
UID:10036622-1741096800-1741096800@mercerme.com
SUMMARY:ESL Conversation Group
DESCRIPTION:Hosted on Tuesdays at 2:00 pm at the Hopewell Branch Library at  245 Pennington-Titusville Road\, Pennington\, NJ 08534 \nCome to the Hopewell Branch for relaxed conversation in English. This program is ideal for speakers with Intermediate proficiency in English\, though all are welcome. Join TESOL-certified librarian Chip McAuley to practice spoken English in a supportive\, friendly environment. Registration is requested. Please call 609.737.2610 or email hopeprogs@mcl.org to register.
URL:https://mercerme.com/event/esl-conversation-group/2025-03-04/
LOCATION:Hopewell Branch Library – MCL\, 245 Pennington-Titusville Road\, Pennington\, 08534\, United States
CATEGORIES:Community,free,Hopewell Township,library,Pennington
ATTACH;FMTTYPE=image/jpeg:https://mercerme.com/wp-content/uploads/2023/12/Hopewell-Branch-Library.jpg
ORGANIZER;CN="Hopewell Branch Library - MCL":MAILTO:hopeprogs@mcl.org
GEO:40.3273609;-74.8016543
X-APPLE-STRUCTURED-LOCATION;VALUE=URI;X-ADDRESS=Hopewell Branch Library – MCL 245 Pennington-Titusville Road Pennington 08534 United States;X-APPLE-RADIUS=500;X-TITLE=245 Pennington-Titusville Road:geo:-74.8016543,40.3273609
END:VEVENT
BEGIN:VEVENT
DTSTART;TZID=America/New_York:20240902T173000
DTEND;TZID=America/New_York:20240902T200000
DTSTAMP:20260419T192808
CREATED:20210401T134825Z
LAST-MODIFIED:20210401T134825Z
UID:10026523-1725298200-1725307200@mercerme.com
SUMMARY:Hopewell Township Committee meeting
DESCRIPTION:Zoom for now\, link can be found in the Agenda Center. When allowed\, meetings will be held at the Municipal Building.\nHopewell Township Municipal Building\n201 Washington Crossing Pennington Road\nTitusville\, NJ 08560
URL:https://mercerme.com/event/hopewell-township-committee-meeting-2024-09-02-2/
CATEGORIES:Hopewell Township
END:VEVENT
BEGIN:VEVENT
DTSTART;TZID=America/New_York:20240819T173000
DTEND;TZID=America/New_York:20240819T200000
DTSTAMP:20260419T192808
CREATED:20210401T142231Z
LAST-MODIFIED:20210401T142231Z
UID:10026563-1724088600-1724097600@mercerme.com
SUMMARY:Hopewell Township Committee meeting
DESCRIPTION:Zoom for now\, link can be found in the Agenda Center. When allowed\, meetings will be held at the Municipal Building.\nHopewell Township Municipal Building\n201 Washington Crossing Pennington Road\nTitusville\, NJ 08560
URL:https://mercerme.com/event/hopewell-township-committee-meeting-2-2024-08-19-2/
CATEGORIES:Hopewell Township
END:VEVENT
BEGIN:VEVENT
DTSTART;TZID=America/New_York:20240805T173000
DTEND;TZID=America/New_York:20240805T200000
DTSTAMP:20260419T192808
CREATED:20210401T134825Z
LAST-MODIFIED:20210401T134825Z
UID:10026503-1722879000-1722888000@mercerme.com
SUMMARY:Hopewell Township Committee meeting
DESCRIPTION:Zoom for now\, link can be found in the Agenda Center. When allowed\, meetings will be held at the Municipal Building.\nHopewell Township Municipal Building\n201 Washington Crossing Pennington Road\nTitusville\, NJ 08560
URL:https://mercerme.com/event/hopewell-township-committee-meeting-2024-08-05-2/
CATEGORIES:Hopewell Township
END:VEVENT
BEGIN:VEVENT
DTSTART;TZID=America/New_York:20240715T173000
DTEND;TZID=America/New_York:20240715T200000
DTSTAMP:20260419T192808
CREATED:20210401T142231Z
LAST-MODIFIED:20210401T142231Z
UID:10026562-1721064600-1721073600@mercerme.com
SUMMARY:Hopewell Township Committee meeting
DESCRIPTION:Zoom for now\, link can be found in the Agenda Center. When allowed\, meetings will be held at the Municipal Building.\nHopewell Township Municipal Building\n201 Washington Crossing Pennington Road\nTitusville\, NJ 08560
URL:https://mercerme.com/event/hopewell-township-committee-meeting-2-2024-07-15-2/
CATEGORIES:Hopewell Township
END:VEVENT
BEGIN:VEVENT
DTSTART;TZID=America/New_York:20240701T173000
DTEND;TZID=America/New_York:20240701T200000
DTSTAMP:20260419T192808
CREATED:20210401T134825Z
LAST-MODIFIED:20210401T134825Z
UID:10026502-1719855000-1719864000@mercerme.com
SUMMARY:Hopewell Township Committee meeting
DESCRIPTION:Zoom for now\, link can be found in the Agenda Center. When allowed\, meetings will be held at the Municipal Building.\nHopewell Township Municipal Building\n201 Washington Crossing Pennington Road\nTitusville\, NJ 08560
URL:https://mercerme.com/event/hopewell-township-committee-meeting-2024-07-01-2/
CATEGORIES:Hopewell Township
END:VEVENT
BEGIN:VEVENT
DTSTART;TZID=America/New_York:20240617T173000
DTEND;TZID=America/New_York:20240617T200000
DTSTAMP:20260419T192808
CREATED:20210401T142231Z
LAST-MODIFIED:20210401T142231Z
UID:10026561-1718645400-1718654400@mercerme.com
SUMMARY:Hopewell Township Committee meeting
DESCRIPTION:Zoom for now\, link can be found in the Agenda Center. When allowed\, meetings will be held at the Municipal Building.\nHopewell Township Municipal Building\n201 Washington Crossing Pennington Road\nTitusville\, NJ 08560
URL:https://mercerme.com/event/hopewell-township-committee-meeting-2-2024-06-17-2/
CATEGORIES:Hopewell Township
END:VEVENT
BEGIN:VEVENT
DTSTART;TZID=America/New_York:20240603T173000
DTEND;TZID=America/New_York:20240603T200000
DTSTAMP:20260419T192808
CREATED:20210401T134825Z
LAST-MODIFIED:20210401T134825Z
UID:10026501-1717435800-1717444800@mercerme.com
SUMMARY:Hopewell Township Committee meeting
DESCRIPTION:Zoom for now\, link can be found in the Agenda Center. When allowed\, meetings will be held at the Municipal Building.\nHopewell Township Municipal Building\n201 Washington Crossing Pennington Road\nTitusville\, NJ 08560
URL:https://mercerme.com/event/hopewell-township-committee-meeting-2024-06-03-2/
CATEGORIES:Hopewell Township
END:VEVENT
BEGIN:VEVENT
DTSTART;TZID=America/New_York:20240520T173000
DTEND;TZID=America/New_York:20240520T200000
DTSTAMP:20260419T192808
CREATED:20210401T142231Z
LAST-MODIFIED:20210401T142231Z
UID:10026560-1716226200-1716235200@mercerme.com
SUMMARY:Hopewell Township Committee meeting
DESCRIPTION:Zoom for now\, link can be found in the Agenda Center. When allowed\, meetings will be held at the Municipal Building.\nHopewell Township Municipal Building\n201 Washington Crossing Pennington Road\nTitusville\, NJ 08560
URL:https://mercerme.com/event/hopewell-township-committee-meeting-2-2024-05-20-2/
CATEGORIES:Hopewell Township
END:VEVENT
BEGIN:VEVENT
DTSTART;TZID=America/New_York:20240506T173000
DTEND;TZID=America/New_York:20240506T200000
DTSTAMP:20260419T192808
CREATED:20210401T134825Z
LAST-MODIFIED:20210401T134825Z
UID:10026500-1715016600-1715025600@mercerme.com
SUMMARY:Hopewell Township Committee meeting
DESCRIPTION:Zoom for now\, link can be found in the Agenda Center. When allowed\, meetings will be held at the Municipal Building.\nHopewell Township Municipal Building\n201 Washington Crossing Pennington Road\nTitusville\, NJ 08560
URL:https://mercerme.com/event/hopewell-township-committee-meeting-2024-05-06-2/
CATEGORIES:Hopewell Township
END:VEVENT
BEGIN:VEVENT
DTSTART;TZID=America/New_York:20240415T173000
DTEND;TZID=America/New_York:20240415T200000
DTSTAMP:20260419T192808
CREATED:20210401T142231Z
LAST-MODIFIED:20210401T142231Z
UID:10026559-1713202200-1713211200@mercerme.com
SUMMARY:Hopewell Township Committee meeting
DESCRIPTION:Zoom for now\, link can be found in the Agenda Center. When allowed\, meetings will be held at the Municipal Building.\nHopewell Township Municipal Building\n201 Washington Crossing Pennington Road\nTitusville\, NJ 08560
URL:https://mercerme.com/event/hopewell-township-committee-meeting-2-2024-04-15-2/
CATEGORIES:Hopewell Township
END:VEVENT
BEGIN:VEVENT
DTSTART;TZID=America/New_York:20240401T173000
DTEND;TZID=America/New_York:20240401T200000
DTSTAMP:20260419T192808
CREATED:20210401T134825Z
LAST-MODIFIED:20210401T134825Z
UID:10026499-1711992600-1712001600@mercerme.com
SUMMARY:Hopewell Township Committee meeting
DESCRIPTION:Zoom for now\, link can be found in the Agenda Center. When allowed\, meetings will be held at the Municipal Building.\nHopewell Township Municipal Building\n201 Washington Crossing Pennington Road\nTitusville\, NJ 08560
URL:https://mercerme.com/event/hopewell-township-committee-meeting-2024-04-01-2/
CATEGORIES:Hopewell Township
END:VEVENT
BEGIN:VEVENT
DTSTART;TZID=America/New_York:20240318T173000
DTEND;TZID=America/New_York:20240318T200000
DTSTAMP:20260419T192808
CREATED:20210401T142231Z
LAST-MODIFIED:20210401T142231Z
UID:10026543-1710783000-1710792000@mercerme.com
SUMMARY:Hopewell Township Committee meeting
DESCRIPTION:Zoom for now\, link can be found in the Agenda Center. When allowed\, meetings will be held at the Municipal Building.\nHopewell Township Municipal Building\n201 Washington Crossing Pennington Road\nTitusville\, NJ 08560
URL:https://mercerme.com/event/hopewell-township-committee-meeting-2-2024-03-18-2/
CATEGORIES:Hopewell Township
END:VEVENT
BEGIN:VEVENT
DTSTART;TZID=America/New_York:20240304T173000
DTEND;TZID=America/New_York:20240304T200000
DTSTAMP:20260419T192808
CREATED:20210401T134825Z
LAST-MODIFIED:20210401T134825Z
UID:10026498-1709573400-1709582400@mercerme.com
SUMMARY:Hopewell Township Committee meeting
DESCRIPTION:Zoom for now\, link can be found in the Agenda Center. When allowed\, meetings will be held at the Municipal Building.\nHopewell Township Municipal Building\n201 Washington Crossing Pennington Road\nTitusville\, NJ 08560
URL:https://mercerme.com/event/hopewell-township-committee-meeting-2024-03-04-2/
CATEGORIES:Hopewell Township
END:VEVENT
BEGIN:VEVENT
DTSTART;TZID=America/New_York:20240219T173000
DTEND;TZID=America/New_York:20240219T200000
DTSTAMP:20260419T192808
CREATED:20210401T142231Z
LAST-MODIFIED:20210401T142231Z
UID:10026542-1708363800-1708372800@mercerme.com
SUMMARY:Hopewell Township Committee meeting
DESCRIPTION:Zoom for now\, link can be found in the Agenda Center. When allowed\, meetings will be held at the Municipal Building.\nHopewell Township Municipal Building\n201 Washington Crossing Pennington Road\nTitusville\, NJ 08560
URL:https://mercerme.com/event/hopewell-township-committee-meeting-2-2024-02-19-2/
CATEGORIES:Hopewell Township
END:VEVENT
BEGIN:VEVENT
DTSTART;TZID=America/New_York:20240205T173000
DTEND;TZID=America/New_York:20240205T200000
DTSTAMP:20260419T192808
CREATED:20210401T134825Z
LAST-MODIFIED:20210401T134825Z
UID:10026497-1707154200-1707163200@mercerme.com
SUMMARY:Hopewell Township Committee meeting
DESCRIPTION:Zoom for now\, link can be found in the Agenda Center. When allowed\, meetings will be held at the Municipal Building.\nHopewell Township Municipal Building\n201 Washington Crossing Pennington Road\nTitusville\, NJ 08560
URL:https://mercerme.com/event/hopewell-township-committee-meeting-2024-02-05-2/
CATEGORIES:Hopewell Township
END:VEVENT
BEGIN:VEVENT
DTSTART;TZID=America/New_York:20240115T173000
DTEND;TZID=America/New_York:20240115T200000
DTSTAMP:20260419T192808
CREATED:20210401T142231Z
LAST-MODIFIED:20210401T142231Z
UID:10026541-1705339800-1705348800@mercerme.com
SUMMARY:Hopewell Township Committee meeting
DESCRIPTION:Zoom for now\, link can be found in the Agenda Center. When allowed\, meetings will be held at the Municipal Building.\nHopewell Township Municipal Building\n201 Washington Crossing Pennington Road\nTitusville\, NJ 08560
URL:https://mercerme.com/event/hopewell-township-committee-meeting-2-2024-01-15-2/
CATEGORIES:Hopewell Township
END:VEVENT
BEGIN:VEVENT
DTSTART;TZID=America/New_York:20240101T173000
DTEND;TZID=America/New_York:20240101T200000
DTSTAMP:20260419T192808
CREATED:20210401T134825Z
LAST-MODIFIED:20210401T134825Z
UID:10026496-1704130200-1704139200@mercerme.com
SUMMARY:Hopewell Township Committee meeting
DESCRIPTION:Zoom for now\, link can be found in the Agenda Center. When allowed\, meetings will be held at the Municipal Building.\nHopewell Township Municipal Building\n201 Washington Crossing Pennington Road\nTitusville\, NJ 08560
URL:https://mercerme.com/event/hopewell-township-committee-meeting-2024-01-01-2/
CATEGORIES:Hopewell Township
END:VEVENT
BEGIN:VEVENT
DTSTART;TZID=America/New_York:20231218T173000
DTEND;TZID=America/New_York:20231218T200000
DTSTAMP:20260419T192808
CREATED:20210401T142231Z
LAST-MODIFIED:20210401T142231Z
UID:10026540-1702920600-1702929600@mercerme.com
SUMMARY:Hopewell Township Committee meeting
DESCRIPTION:Zoom for now\, link can be found in the Agenda Center. When allowed\, meetings will be held at the Municipal Building.\nHopewell Township Municipal Building\n201 Washington Crossing Pennington Road\nTitusville\, NJ 08560
URL:https://mercerme.com/event/hopewell-township-committee-meeting-2-2023-12-18-2/
CATEGORIES:Hopewell Township
END:VEVENT
BEGIN:VEVENT
DTSTART;TZID=America/New_York:20231204T173000
DTEND;TZID=America/New_York:20231204T200000
DTSTAMP:20260419T192808
CREATED:20210401T134825Z
LAST-MODIFIED:20210401T134825Z
UID:10026495-1701711000-1701720000@mercerme.com
SUMMARY:Hopewell Township Committee meeting
DESCRIPTION:Zoom for now\, link can be found in the Agenda Center. When allowed\, meetings will be held at the Municipal Building.\nHopewell Township Municipal Building\n201 Washington Crossing Pennington Road\nTitusville\, NJ 08560
URL:https://mercerme.com/event/hopewell-township-committee-meeting-2023-12-04-2/
CATEGORIES:Hopewell Township
END:VEVENT
BEGIN:VEVENT
DTSTART;TZID=America/New_York:20231120T173000
DTEND;TZID=America/New_York:20231120T200000
DTSTAMP:20260419T192808
CREATED:20210401T142231Z
LAST-MODIFIED:20210401T142231Z
UID:10026539-1700501400-1700510400@mercerme.com
SUMMARY:Hopewell Township Committee meeting
DESCRIPTION:Zoom for now\, link can be found in the Agenda Center. When allowed\, meetings will be held at the Municipal Building.\nHopewell Township Municipal Building\n201 Washington Crossing Pennington Road\nTitusville\, NJ 08560
URL:https://mercerme.com/event/hopewell-township-committee-meeting-2-2023-11-20-2/
CATEGORIES:Hopewell Township
END:VEVENT
BEGIN:VEVENT
DTSTART;TZID=America/New_York:20231106T173000
DTEND;TZID=America/New_York:20231106T200000
DTSTAMP:20260419T192808
CREATED:20210401T134825Z
LAST-MODIFIED:20210401T134825Z
UID:10026494-1699291800-1699300800@mercerme.com
SUMMARY:Hopewell Township Committee meeting
DESCRIPTION:Zoom for now\, link can be found in the Agenda Center. When allowed\, meetings will be held at the Municipal Building.\nHopewell Township Municipal Building\n201 Washington Crossing Pennington Road\nTitusville\, NJ 08560
URL:https://mercerme.com/event/hopewell-township-committee-meeting-2023-11-06-2/
CATEGORIES:Hopewell Township
END:VEVENT
BEGIN:VEVENT
DTSTART;TZID=America/New_York:20231016T173000
DTEND;TZID=America/New_York:20231016T200000
DTSTAMP:20260419T192808
CREATED:20210401T142231Z
LAST-MODIFIED:20210401T142231Z
UID:10026538-1697477400-1697486400@mercerme.com
SUMMARY:Hopewell Township Committee meeting
DESCRIPTION:Zoom for now\, link can be found in the Agenda Center. When allowed\, meetings will be held at the Municipal Building.\nHopewell Township Municipal Building\n201 Washington Crossing Pennington Road\nTitusville\, NJ 08560
URL:https://mercerme.com/event/hopewell-township-committee-meeting-2-2023-10-16-2/
CATEGORIES:Hopewell Township
END:VEVENT
END:VCALENDAR