BEGIN:VCALENDAR
VERSION:2.0
PRODID:-//MercerMe - ECPv6.15.18//NONSGML v1.0//EN
CALSCALE:GREGORIAN
METHOD:PUBLISH
X-WR-CALNAME:MercerMe
X-ORIGINAL-URL:https://mercerme.com
X-WR-CALDESC:Events for MercerMe
REFRESH-INTERVAL;VALUE=DURATION:PT1H
X-Robots-Tag:noindex
X-PUBLISHED-TTL:PT1H
BEGIN:VTIMEZONE
TZID:America/New_York
BEGIN:DAYLIGHT
TZOFFSETFROM:-0500
TZOFFSETTO:-0400
TZNAME:EDT
DTSTART:20250309T070000
END:DAYLIGHT
BEGIN:STANDARD
TZOFFSETFROM:-0400
TZOFFSETTO:-0500
TZNAME:EST
DTSTART:20251102T060000
END:STANDARD
BEGIN:DAYLIGHT
TZOFFSETFROM:-0500
TZOFFSETTO:-0400
TZNAME:EDT
DTSTART:20260308T070000
END:DAYLIGHT
BEGIN:STANDARD
TZOFFSETFROM:-0400
TZOFFSETTO:-0500
TZNAME:EST
DTSTART:20261101T060000
END:STANDARD
BEGIN:DAYLIGHT
TZOFFSETFROM:-0500
TZOFFSETTO:-0400
TZNAME:EDT
DTSTART:20270314T070000
END:DAYLIGHT
BEGIN:STANDARD
TZOFFSETFROM:-0400
TZOFFSETTO:-0500
TZNAME:EST
DTSTART:20271107T060000
END:STANDARD
END:VTIMEZONE
BEGIN:VEVENT
DTSTART;TZID=America/New_York:20260501T100000
DTEND;TZID=America/New_York:20260501T120000
DTSTAMP:20260425T203933
CREATED:20260422T160139Z
LAST-MODIFIED:20260422T160139Z
UID:10037429-1777629600-1777636800@mercerme.com
SUMMARY:Wellness Walk - Point Breeze
DESCRIPTION:We will explore some of the history of this fascinating estate during this walk on beautiful Point Breeze! In case of inclement weather\, check the marsh website; any cancellations will be listed before 9 am on the day of the event. A light drizzle will not cancel. Program is free\, but registration is required.\n\n\nPlease note: By participating in this event\, you are giving the Friends for the Abbott Marshlands\, its representatives and staff\, permission to record or take photographs of you during the event. Photographs may be used for educational or marketing purposes\, in print or electronically. If you register and find you cannot attend\, please remember to cancel your ticket as many of our events have a waitlist.
URL:https://mercerme.com/event/wellness-walk-point-breeze/
LOCATION:Point Breeze\, 101 Park Street\, Bordentown City\, NJ\, 08505\, United States
ATTACH;FMTTYPE=image/png:https://mercerme.com/wp-content/uploads/2026/04/First-Saturday-Wellness-Walk-2.png
END:VEVENT
END:VCALENDAR